BEGIN:VCALENDAR
VERSION:2.0
PRODID:-//The Detroit Change Initiative - ECPv6.15.20//NONSGML v1.0//EN
CALSCALE:GREGORIAN
METHOD:PUBLISH
X-WR-CALNAME:The Detroit Change Initiative
X-ORIGINAL-URL:https://dcimovement.org
X-WR-CALDESC:Events for The Detroit Change Initiative
REFRESH-INTERVAL;VALUE=DURATION:PT1H
X-Robots-Tag:noindex
X-PUBLISHED-TTL:PT1H
BEGIN:VTIMEZONE
TZID:America/Detroit
BEGIN:DAYLIGHT
TZOFFSETFROM:-0500
TZOFFSETTO:-0400
TZNAME:EDT
DTSTART:20240310T070000
END:DAYLIGHT
BEGIN:STANDARD
TZOFFSETFROM:-0400
TZOFFSETTO:-0500
TZNAME:EST
DTSTART:20241103T060000
END:STANDARD
BEGIN:DAYLIGHT
TZOFFSETFROM:-0500
TZOFFSETTO:-0400
TZNAME:EDT
DTSTART:20250309T070000
END:DAYLIGHT
BEGIN:STANDARD
TZOFFSETFROM:-0400
TZOFFSETTO:-0500
TZNAME:EST
DTSTART:20251102T060000
END:STANDARD
BEGIN:DAYLIGHT
TZOFFSETFROM:-0500
TZOFFSETTO:-0400
TZNAME:EDT
DTSTART:20260308T070000
END:DAYLIGHT
BEGIN:STANDARD
TZOFFSETFROM:-0400
TZOFFSETTO:-0500
TZNAME:EST
DTSTART:20261101T060000
END:STANDARD
BEGIN:DAYLIGHT
TZOFFSETFROM:-0500
TZOFFSETTO:-0400
TZNAME:EDT
DTSTART:20270314T070000
END:DAYLIGHT
BEGIN:STANDARD
TZOFFSETFROM:-0400
TZOFFSETTO:-0500
TZNAME:EST
DTSTART:20271107T060000
END:STANDARD
END:VTIMEZONE
BEGIN:VTIMEZONE
TZID:America/Halifax
BEGIN:DAYLIGHT
TZOFFSETFROM:-0400
TZOFFSETTO:-0300
TZNAME:ADT
DTSTART:20240310T060000
END:DAYLIGHT
BEGIN:STANDARD
TZOFFSETFROM:-0300
TZOFFSETTO:-0400
TZNAME:AST
DTSTART:20241103T050000
END:STANDARD
BEGIN:DAYLIGHT
TZOFFSETFROM:-0400
TZOFFSETTO:-0300
TZNAME:ADT
DTSTART:20250309T060000
END:DAYLIGHT
BEGIN:STANDARD
TZOFFSETFROM:-0300
TZOFFSETTO:-0400
TZNAME:AST
DTSTART:20251102T050000
END:STANDARD
BEGIN:DAYLIGHT
TZOFFSETFROM:-0400
TZOFFSETTO:-0300
TZNAME:ADT
DTSTART:20260308T060000
END:DAYLIGHT
BEGIN:STANDARD
TZOFFSETFROM:-0300
TZOFFSETTO:-0400
TZNAME:AST
DTSTART:20261101T050000
END:STANDARD
END:VTIMEZONE
BEGIN:VEVENT
DTSTART;TZID=America/Detroit:20260106T100000
DTEND;TZID=America/Detroit:20260106T150000
DTSTAMP:20260424T213558
CREATED:20260104T000539Z
LAST-MODIFIED:20260105T151144Z
UID:10000021-1767693600-1767711600@dcimovement.org
SUMMARY:MICHIGAN SECRETARY OF STATE MOBLIE UNIT
DESCRIPTION:STUDENT MUST BRING THEIR ORIGINAL BIRTH CERTIFICATE WITH SEAL\, SOCIAL SECURITY CARD(NO COPIES)\, AND PROOF OF ADDRESS.
URL:https://dcimovement.org/event/michigan-secretary-of-state-moblie-unit/2026-01-06/
LOCATION:MI
ORGANIZER;CN="DETROIT CHANGE INTIATIVE":MAILTO:www.dcimovement.org
END:VEVENT
BEGIN:VEVENT
DTSTART;TZID=America/Halifax:20251121T120000
DTEND;TZID=America/Halifax:20251121T170000
DTSTAMP:20260424T213558
CREATED:20251110T003111Z
LAST-MODIFIED:20251110T003111Z
UID:10000020-1763726400-1763744400@dcimovement.org
SUMMARY:Alicia's Helping Hand Thankgiving Baskets Giveaway
DESCRIPTION:
URL:https://dcimovement.org/event/alicias-helping-hand-thankgiving-baskets-giveaway/
LOCATION:Anchor Detroit\, 9740 McKinney Street\, Detroit\, MI\, 48224\, United States
END:VEVENT
BEGIN:VEVENT
DTSTART;TZID=America/Detroit:20251116T130000
DTEND;TZID=America/Detroit:20251116T160000
DTSTAMP:20260424T213558
CREATED:20250930T002910Z
LAST-MODIFIED:20250930T002910Z
UID:10000018-1763298000-1763308800@dcimovement.org
SUMMARY:SEMAJ J. MORGAN FOUNDATION BIG TURKEY GIVEAWAY
DESCRIPTION:Join the Semaj J. Morgan Foundation on November 16th from 1:00 PM to 4:00 PM at the SMSB Community Engagement Center for a Special event where 200 families will be blessed!  Come out and meet Semaj J. Morgan and a special guest. Don’t miss this chance to give back! \nScreenshot
URL:https://dcimovement.org/event/semaj-j-morgan-foundation-big-turkey-giveaway/
LOCATION:SMSB Community Engagement Center\, 11440 Morang Dr\, Detroit\, MI\, 48224\, United States
END:VEVENT
BEGIN:VEVENT
DTSTART;TZID=America/Detroit:20251104T070000
DTEND;TZID=America/Detroit:20251104T200000
DTSTAMP:20260424T213558
CREATED:20250930T001735Z
LAST-MODIFIED:20250930T001735Z
UID:10000019-1762239600-1762286400@dcimovement.org
SUMMARY:NOVEMBER 4 ELECTIONS
DESCRIPTION:Key Dates !! \nSeptember 25: First day that you can vote in person with an absentee ballot at your local clerk’s office. \nOctober 20: Last day to register to vote online(after Oct. 20\, you’ll need to register in person at your local clerk’s office) \nOctober 21: Last day to drop your ballot in the mail(after Oct. 21\, we recommend returning your ballot in person) \nNov 3 @4pm: Deadline to vote in person with an absentee ballot at your local clerk’s office\, if you’re already registered to vote where you live(after that\, you must vote at your polling place on Election Day) \nNov 4: Election Day! Polls are open from 7:00 \nScreenshot \na.m. until 8:00 p.m. If you need to register\, you can register at your local clerk’s office until 8 pm
URL:https://dcimovement.org/event/november-4-elections/
LOCATION:MI
END:VEVENT
BEGIN:VEVENT
DTSTART;TZID=America/Halifax:20250805T070000
DTEND;TZID=America/Halifax:20250805T200000
DTSTAMP:20260424T213558
CREATED:20250727T131600Z
LAST-MODIFIED:20250727T131659Z
UID:10000016-1754377200-1754424000@dcimovement.org
SUMMARY:DETROIT MUNICIPAL PRIMARY ELECTIONS
DESCRIPTION:The City of Detroit’s Primary Elections are coming up on Tuesday\, August 5\, and I want to make sure every voter in our city is ready to show up and make their voice heard. Your vote matters and helps shape our community’s future! \nThis election is the first step in selecting our city’s leaders. Detroit’s municipal elections are officially nonpartisan\, meaning candidates are not listed by political party. The primary determines which candidates will appear on the general election ballot in November. This year\, races include mayor\, city council\, city clerk\, board of police commissioners\, and community advisory council. \nTo vote in this election\, please remember you must: \n\nBe a U.S. citizen\nBe at least 18 years old by Election Day\nBe registered to vote in Michigan\n\nIf you’re not sure whether you’re registered or need to update your information\, you can check your status at detroitmi.gov/elections \nThere are three easy ways to vote: \n\nAbsentee ballot – request and return it ASAP\nVote early at any Detroit Early Voting Center between July 26 – August 3\nIn-person – Tuesday\, August 5\n\nMake a plan now to vote and encourage your family and friends to do the same.
URL:https://dcimovement.org/event/detroit-municipal-primary-elections/
LOCATION:MI
END:VEVENT
BEGIN:VEVENT
DTSTART;TZID=America/Halifax:20250725T090000
DTEND;TZID=America/Halifax:20250725T150000
DTSTAMP:20260424T213558
CREATED:20250710T024547Z
LAST-MODIFIED:20250710T024547Z
UID:10000015-1753434000-1753455600@dcimovement.org
SUMMARY:MICHIGAN SECRETARY OF STATE MOBILE OFFICE
DESCRIPTION:
URL:https://dcimovement.org/event/michigan-secretary-of-state-mobile-office/
LOCATION:Bates Academy\, 19701 Wyoming St.\, Detroit\, MI\, 48221\, United States
ORGANIZER;CN="DETROIT CHANGE INTIATIVE":MAILTO:www.dcimovement.org
END:VEVENT
BEGIN:VEVENT
DTSTART;TZID=America/Halifax:20250724T090000
DTEND;TZID=America/Halifax:20250724T150000
DTSTAMP:20260424T213558
CREATED:20250710T024844Z
LAST-MODIFIED:20250710T024844Z
UID:10000014-1753347600-1753369200@dcimovement.org
SUMMARY:MICHIGAN SECRETARY OF STATE MOBILE OFFICE
DESCRIPTION:
URL:https://dcimovement.org/event/michigan-secretary-of-state-mobile-office-4/
LOCATION:Fisher School\, 15491 Maddeliene St.\, Detroit\, MI\, 48205\, United States
ORGANIZER;CN="DETROIT CHANGE INTIATIVE":MAILTO:www.dcimovement.org
END:VEVENT
BEGIN:VEVENT
DTSTART;TZID=America/Halifax:20250723T090000
DTEND;TZID=America/Halifax:20250723T150000
DTSTAMP:20260424T213558
CREATED:20250710T024818Z
LAST-MODIFIED:20250710T024818Z
UID:10000013-1753261200-1753282800@dcimovement.org
SUMMARY:MICHIGAN SECRETARY OF STATE MOBILE OFFICE
DESCRIPTION:
URL:https://dcimovement.org/event/michigan-secretary-of-state-mobile-office-3/
LOCATION:Academy Of America’s\, 3811 Cicotte St\, Detroit\, MI\, 48210\, United States
ORGANIZER;CN="DETROIT CHANGE INTIATIVE":MAILTO:www.dcimovement.org
END:VEVENT
BEGIN:VEVENT
DTSTART;TZID=America/Halifax:20250721T090000
DTEND;TZID=America/Halifax:20250721T150000
DTSTAMP:20260424T213558
CREATED:20250710T024748Z
LAST-MODIFIED:20250710T024748Z
UID:10000012-1753088400-1753110000@dcimovement.org
SUMMARY:MICHIGAN SECRETARY OF STATE MOBILE UNIT
DESCRIPTION:
URL:https://dcimovement.org/event/michigan-secretary-of-state-mobile-unit/
LOCATION:Munger Elementary\, 5525 Martin St.\, Detroit\, 48210\, United States
ORGANIZER;CN="DETROIT CHANGE INTIATIVE":MAILTO:www.dcimovement.org
END:VEVENT
BEGIN:VEVENT
DTSTART;TZID=America/Halifax:20250715T090000
DTEND;TZID=America/Halifax:20250715T150000
DTSTAMP:20260424T213558
CREATED:20250710T024656Z
LAST-MODIFIED:20250710T024656Z
UID:10000011-1752570000-1752591600@dcimovement.org
SUMMARY:MICHIGAN SECRETARY OF STATE MOBILE OFFICE
DESCRIPTION:
URL:https://dcimovement.org/event/michigan-secretary-of-state-mobile-office-2/
LOCATION:Ronald Brown Academy\, 11530 Outer Drive\, Detroit\, 48224\, United States
ORGANIZER;CN="DETROIT CHANGE INTIATIVE":MAILTO:www.dcimovement.org
END:VEVENT
BEGIN:VEVENT
DTSTART;TZID=America/Detroit:20250619T150000
DTEND;TZID=America/Detroit:20250619T190000
DTSTAMP:20260424T213558
CREATED:20250613T013202Z
LAST-MODIFIED:20250613T013202Z
UID:10000010-1750345200-1750359600@dcimovement.org
SUMMARY:Juneteenth Community Celebration
DESCRIPTION:Join us for the 4th Annual We Gon Be ALRIGHT Juneteenth\, a celebration of freedom and unity on June 19\, 2025\, at 3:00p \nFreedom. Culture. Joy. Community.\nGet ready\, Detroit! The 4th Annual We Gon Be ALRIGHT Juneteenth Community Celebration is back and bigger than ever — and YOU’RE invited! \nJoin us at Corrigan Park for an unforgettable afternoon of live performances\, mouthwatering food vendors\, a vibrant Kid’s Book Fair\, and powerful moments of cultural pride. This is more than an event— it’s a celebration of freedom\, unity\, and everything that makes our community shine. ✨ \n🎤 WHAT TO EXPECT:\n✅ Soulful live performances from local artists & cultural dancers\n✅ Delicious eats from Detroit’s best food vendors\n✅ A colorful Kid’s Book Fair promoting Black authors & literacy\n✅ Family fun\, music\, and good vibes all day long\n✅ Limited-edition 4th Annual Juneteenth Commemorative T-Shirts for $20! \n🎟️ TICKET INFO: \n\nChildren (Ages 4–12): $10\nAdults (13 & up): $15\nChildren 3 & under: FREE\nCommemorative T-Shirts: $35\n\n💼 CALLING ALL VENDORS!\nWe are now accepting applications for:\n🍴 Food Vendors\n🎤 Live Performers\n🛍️ Community & Small Business Vendors \nVendor fee: $50 — includes setup space and promotion to our vibrant community audience.\n👉 Apply early — space is limited! \n💎 SPONSORSHIP OPPORTUNITIES\nSupport a powerful celebration of culture\, history\, and community while showcasing your brand! \n💎 Platinum Sponsor – $700\n✔ Presenting Sponsor Recognition\n✔ On-Stage Speaking Opportunity\n✔ Premium Exhibitor Table\n✔ 6 Event Tickets\n✔ Full-Page Ad in Event Program \n🥇 Gold Sponsor – $500\n✔ Logo on Event Materials\n✔ 4 Event Tickets\n✔ Half-Page Ad\n✔ Exhibitor Table \n🥈 Silver Sponsor – $250\n✔ Logo on Event Signage & Social Media\n✔ 2 Event Tickets\n✔ Quarter-Page Ad \n🤝 Community Partner – $100\n✔ Logo on Website\n✔ 1 Event Ticket\n✔ Recognition in Event Program \nWant to partner with us as a sponsor? Let’s build something impactful together!\n📧 Contact us at partnerships@cjenterprise.co for sponsorship details and benefits. \n🎊 Don’t miss your chance to be part of one of Detroit’s most anticipated Juneteenth celebrations. Bring the whole family\, support local businesses\, and stand in community as we honor our ancestors and continue the legacy of liberation. \n💥 Tickets\, vendor registration\, and sponsorships available now – reserve your spot today!\nBecause no matter what\, We Gon Be ALRIGHT. \n#JuneteenthDetroit #WeGonBeAlright #FreedomFest #CelebrateBlackJoy #CorriganParkVibes #DetroitEvents #SponsorBlackJoy \n 
URL:https://dcimovement.org/event/juneteenth-community-celebration/
LOCATION:Corrgian Park\, 14723 East Warren Avenue\, Detroit\, MI\, 48224\, United States
END:VEVENT
BEGIN:VEVENT
DTSTART;VALUE=DATE:20250601
DTEND;VALUE=DATE:20250602
DTSTAMP:20260424T213558
CREATED:20250416T074302Z
LAST-MODIFIED:20250416T095044Z
UID:10000009-1748736000-1748822399@dcimovement.org
SUMMARY:Sound Mind Sound Body National College Showcase at Wayne State University Stadium DAY 2
DESCRIPTION:9 AM to 5 PM Register Today: https://thenationalcollegeshowcase.ryzerevents.com
URL:https://dcimovement.org/event/sound-mind-sound-body-national-college-showcase-at-wayne-state-university-stadium-day-2/
LOCATION:MI
ATTACH;FMTTYPE=image/png:https://dcimovement.org/wp-content/uploads/2025/04/smsb.png
END:VEVENT
BEGIN:VEVENT
DTSTART;VALUE=DATE:20250531
DTEND;VALUE=DATE:20250601
DTSTAMP:20260424T213558
CREATED:20250416T074105Z
LAST-MODIFIED:20250416T074202Z
UID:10000008-1748649600-1748735999@dcimovement.org
SUMMARY:Sound Mind Sound Body National College Showcase at Wayne State University Stadium DAY 1
DESCRIPTION:9 AM to 5 PM Register Today: https://thenationalcollegeshowcase.ryzerevents.com
URL:https://dcimovement.org/event/sound-mind-sound-body-national-college-showcase-at-wayne-state-university-stadium-day-1/
LOCATION:MI
ATTACH;FMTTYPE=image/png:https://dcimovement.org/wp-content/uploads/2025/04/smsb.png
END:VEVENT
BEGIN:VEVENT
DTSTART;VALUE=DATE:20250510
DTEND;VALUE=DATE:20250511
DTSTAMP:20260424T213558
CREATED:20250416T074022Z
LAST-MODIFIED:20250416T074022Z
UID:10000007-1746835200-1746921599@dcimovement.org
SUMMARY:GOT WARRANTS? DETROIT WARRANT CLINIC
DESCRIPTION:Take care of traffic and misdemeanor warrants without fear of arrest. 10 AM to 3 PM Butzel Family Recreational Center 7737 Kercheval Detroit MI\, 48214. Register today: https://form.jotform.com/211454491699163
URL:https://dcimovement.org/event/got-warrants-detroit-warrant-clinic/
LOCATION:MI
END:VEVENT
BEGIN:VEVENT
DTSTART;VALUE=DATE:20250506
DTEND;VALUE=DATE:20250507
DTSTAMP:20260424T213558
CREATED:20250416T073945Z
LAST-MODIFIED:20250416T073945Z
UID:10000006-1746489600-1746575999@dcimovement.org
SUMMARY:American Heart Association's Day at the Capitol on Tuesday\, May 6th in Lansing
DESCRIPTION:We will advocate for funding cardiac emergency response plans and healthy school meals. Register click the link: https://midwestregion.quorum.us/event/21025/
URL:https://dcimovement.org/event/american-heart-associations-day-at-the-capitol-on-tuesday-may-6th-in-lansing/
LOCATION:MI
END:VEVENT
BEGIN:VEVENT
DTSTART;VALUE=DATE:20250429
DTEND;VALUE=DATE:20250430
DTSTAMP:20260424T213558
CREATED:20250416T073847Z
LAST-MODIFIED:20250416T073847Z
UID:10000005-1745884800-1745971199@dcimovement.org
SUMMARY:Detroit Public Schools Community Schools District Capitol Day
DESCRIPTION:Detroit Public Schools Community Schools District Capitol Day is a movement where youth can voice their concerns about what they need from their representatives. We have exciting events on Capitol Day\, including hearing from fearless youth organizers\, meeting with lawmakers\, and standing shoulder-to-shoulder with folks from all across Michigan.
URL:https://dcimovement.org/event/detroit-public-schools-community-schools-district-capitol-day/
LOCATION:MI
END:VEVENT
BEGIN:VEVENT
DTSTART;VALUE=DATE:20250423
DTEND;VALUE=DATE:20250424
DTSTAMP:20260424T213558
CREATED:20250416T073653Z
LAST-MODIFIED:20250416T073653Z
UID:10000004-1745366400-1745452799@dcimovement.org
SUMMARY:Michigan United Capitol Day
DESCRIPTION:Michigan United Capitol Day is a movement and your opportunity to make government work for us\, not corporations. We have exciting events on Capitol Day\, including hearing from fearless youth organizers\, meeting with lawmakers\, and standing shoulder-to-shoulder with folks from all across Michigan. Click the link to join: https://miunited.org
URL:https://dcimovement.org/event/michigan-united-capitol-day/
LOCATION:MI
ATTACH;FMTTYPE=image/jpeg:https://dcimovement.org/wp-content/uploads/2025/04/MU_LOGO_Final_4color.jpg
END:VEVENT
BEGIN:VEVENT
DTSTART;VALUE=DATE:20250422
DTEND;VALUE=DATE:20250423
DTSTAMP:20260424T213558
CREATED:20250416T073502Z
LAST-MODIFIED:20250416T073536Z
UID:10000003-1745280000-1745366399@dcimovement.org
SUMMARY:End Gun Violence Michigan Capitol Day
DESCRIPTION:End Gun Violence Michigan Capitol Day is a movement and your opportunity to make government work for us\, not corporations. We have exciting events on Capitol Day\, including hearing from fearless youth organizers\, meeting with lawmakers\, and standing shoulder-to-shoulder with folks from all across Michigan. Click the link to join: https://www.endgunviolencemi-action.org
URL:https://dcimovement.org/event/end-gun-violence-michigan-capitol-day/
LOCATION:MI
ATTACH;FMTTYPE=image/png:https://dcimovement.org/wp-content/uploads/2025/04/End-gun-violence.png
END:VEVENT
BEGIN:VEVENT
DTSTART;TZID=America/Halifax:20250417T183000
DTEND;TZID=America/Halifax:20250417T193000
DTSTAMP:20260424T213558
CREATED:20250416T073408Z
LAST-MODIFIED:20250416T073408Z
UID:10000002-1744914600-1744918200@dcimovement.org
SUMMARY:Blackout: Exposing Utility Injustice
DESCRIPTION:https://streamyard.com/bbavx6hkia
URL:https://dcimovement.org/event/blackout-exposing-utility-injustice/
LOCATION:MI
END:VEVENT
BEGIN:VEVENT
DTSTART;VALUE=DATE:20250415
DTEND;VALUE=DATE:20250416
DTSTAMP:20260424T213558
CREATED:20250416T073024Z
LAST-MODIFIED:20250416T073024Z
UID:10000001-1744675200-1744761599@dcimovement.org
SUMMARY:TAX DAY
DESCRIPTION:
URL:https://dcimovement.org/event/tax-day/
LOCATION:MI
END:VEVENT
END:VCALENDAR