BEGIN:VCALENDAR
VERSION:2.0
PRODID:-//The Detroit Change Initiative - ECPv6.15.20//NONSGML v1.0//EN
CALSCALE:GREGORIAN
METHOD:PUBLISH
X-WR-CALNAME:The Detroit Change Initiative
X-ORIGINAL-URL:https://dcimovement.org
X-WR-CALDESC:Events for The Detroit Change Initiative
REFRESH-INTERVAL;VALUE=DURATION:PT1H
X-Robots-Tag:noindex
X-PUBLISHED-TTL:PT1H
BEGIN:VTIMEZONE
TZID:America/Detroit
BEGIN:DAYLIGHT
TZOFFSETFROM:-0500
TZOFFSETTO:-0400
TZNAME:EDT
DTSTART:20250309T070000
END:DAYLIGHT
BEGIN:STANDARD
TZOFFSETFROM:-0400
TZOFFSETTO:-0500
TZNAME:EST
DTSTART:20251102T060000
END:STANDARD
BEGIN:DAYLIGHT
TZOFFSETFROM:-0500
TZOFFSETTO:-0400
TZNAME:EDT
DTSTART:20260308T070000
END:DAYLIGHT
BEGIN:STANDARD
TZOFFSETFROM:-0400
TZOFFSETTO:-0500
TZNAME:EST
DTSTART:20261101T060000
END:STANDARD
BEGIN:DAYLIGHT
TZOFFSETFROM:-0500
TZOFFSETTO:-0400
TZNAME:EDT
DTSTART:20270314T070000
END:DAYLIGHT
BEGIN:STANDARD
TZOFFSETFROM:-0400
TZOFFSETTO:-0500
TZNAME:EST
DTSTART:20271107T060000
END:STANDARD
END:VTIMEZONE
BEGIN:VTIMEZONE
TZID:America/Halifax
BEGIN:DAYLIGHT
TZOFFSETFROM:-0400
TZOFFSETTO:-0300
TZNAME:ADT
DTSTART:20250309T060000
END:DAYLIGHT
BEGIN:STANDARD
TZOFFSETFROM:-0300
TZOFFSETTO:-0400
TZNAME:AST
DTSTART:20251102T050000
END:STANDARD
BEGIN:DAYLIGHT
TZOFFSETFROM:-0400
TZOFFSETTO:-0300
TZNAME:ADT
DTSTART:20260308T060000
END:DAYLIGHT
BEGIN:STANDARD
TZOFFSETFROM:-0300
TZOFFSETTO:-0400
TZNAME:AST
DTSTART:20261101T050000
END:STANDARD
BEGIN:DAYLIGHT
TZOFFSETFROM:-0400
TZOFFSETTO:-0300
TZNAME:ADT
DTSTART:20270314T060000
END:DAYLIGHT
BEGIN:STANDARD
TZOFFSETFROM:-0300
TZOFFSETTO:-0400
TZNAME:AST
DTSTART:20271107T050000
END:STANDARD
END:VTIMEZONE
BEGIN:VEVENT
DTSTART;TZID=America/Detroit:20260106T100000
DTEND;TZID=America/Detroit:20260106T150000
DTSTAMP:20260425T002918
CREATED:20260104T000539Z
LAST-MODIFIED:20260105T151144Z
UID:10000021-1767693600-1767711600@dcimovement.org
SUMMARY:MICHIGAN SECRETARY OF STATE MOBLIE UNIT
DESCRIPTION:STUDENT MUST BRING THEIR ORIGINAL BIRTH CERTIFICATE WITH SEAL\, SOCIAL SECURITY CARD(NO COPIES)\, AND PROOF OF ADDRESS.
URL:https://dcimovement.org/event/michigan-secretary-of-state-moblie-unit/2026-01-06/
ORGANIZER;CN="DETROIT CHANGE INTIATIVE":MAILTO:www.dcimovement.org
END:VEVENT
BEGIN:VEVENT
DTSTART;TZID=America/Detroit:20260108T100000
DTEND;TZID=America/Detroit:20260108T150000
DTSTAMP:20260425T002918
CREATED:20260104T000539Z
LAST-MODIFIED:20260105T151144Z
UID:10000022-1767866400-1767884400@dcimovement.org
SUMMARY:MICHIGAN SECRETARY OF STATE MOBLIE UNIT
DESCRIPTION:STUDENT MUST BRING THEIR ORIGINAL BIRTH CERTIFICATE WITH SEAL\, SOCIAL SECURITY CARD(NO COPIES)\, AND PROOF OF ADDRESS.
URL:https://dcimovement.org/event/michigan-secretary-of-state-moblie-unit/2026-01-08/
ORGANIZER;CN="DETROIT CHANGE INTIATIVE":MAILTO:www.dcimovement.org
END:VEVENT
BEGIN:VEVENT
DTSTART;TZID=America/Detroit:20260113T100000
DTEND;TZID=America/Detroit:20260113T150000
DTSTAMP:20260425T002918
CREATED:20260104T000539Z
LAST-MODIFIED:20260105T151144Z
UID:10000023-1768298400-1768316400@dcimovement.org
SUMMARY:MICHIGAN SECRETARY OF STATE MOBLIE UNIT
DESCRIPTION:STUDENT MUST BRING THEIR ORIGINAL BIRTH CERTIFICATE WITH SEAL\, SOCIAL SECURITY CARD(NO COPIES)\, AND PROOF OF ADDRESS.
URL:https://dcimovement.org/event/michigan-secretary-of-state-moblie-unit/2026-01-13/
ORGANIZER;CN="DETROIT CHANGE INTIATIVE":MAILTO:www.dcimovement.org
END:VEVENT
BEGIN:VEVENT
DTSTART;TZID=America/Detroit:20260115T100000
DTEND;TZID=America/Detroit:20260115T150000
DTSTAMP:20260425T002918
CREATED:20260104T000539Z
LAST-MODIFIED:20260105T151144Z
UID:10000024-1768471200-1768489200@dcimovement.org
SUMMARY:MICHIGAN SECRETARY OF STATE MOBLIE UNIT
DESCRIPTION:STUDENT MUST BRING THEIR ORIGINAL BIRTH CERTIFICATE WITH SEAL\, SOCIAL SECURITY CARD(NO COPIES)\, AND PROOF OF ADDRESS.
URL:https://dcimovement.org/event/michigan-secretary-of-state-moblie-unit/2026-01-15/
ORGANIZER;CN="DETROIT CHANGE INTIATIVE":MAILTO:www.dcimovement.org
END:VEVENT
BEGIN:VEVENT
DTSTART;TZID=America/Detroit:20260120T100000
DTEND;TZID=America/Detroit:20260120T150000
DTSTAMP:20260425T002918
CREATED:20260104T000539Z
LAST-MODIFIED:20260105T151144Z
UID:10000025-1768903200-1768921200@dcimovement.org
SUMMARY:MICHIGAN SECRETARY OF STATE MOBLIE UNIT
DESCRIPTION:STUDENT MUST BRING THEIR ORIGINAL BIRTH CERTIFICATE WITH SEAL\, SOCIAL SECURITY CARD(NO COPIES)\, AND PROOF OF ADDRESS.
URL:https://dcimovement.org/event/michigan-secretary-of-state-moblie-unit/2026-01-20/
ORGANIZER;CN="DETROIT CHANGE INTIATIVE":MAILTO:www.dcimovement.org
END:VEVENT
BEGIN:VEVENT
DTSTART;TZID=America/Detroit:20260122T100000
DTEND;TZID=America/Detroit:20260122T150000
DTSTAMP:20260425T002918
CREATED:20260104T000539Z
LAST-MODIFIED:20260105T151144Z
UID:10000026-1769076000-1769094000@dcimovement.org
SUMMARY:MICHIGAN SECRETARY OF STATE MOBLIE UNIT
DESCRIPTION:STUDENT MUST BRING THEIR ORIGINAL BIRTH CERTIFICATE WITH SEAL\, SOCIAL SECURITY CARD(NO COPIES)\, AND PROOF OF ADDRESS.
URL:https://dcimovement.org/event/michigan-secretary-of-state-moblie-unit/2026-01-22/
ORGANIZER;CN="DETROIT CHANGE INTIATIVE":MAILTO:www.dcimovement.org
END:VEVENT
BEGIN:VEVENT
DTSTART;TZID=America/Detroit:20260127T101145
DTEND;TZID=America/Detroit:20260127T150000
DTSTAMP:20260425T002918
CREATED:20260104T000539Z
LAST-MODIFIED:20260105T151144Z
UID:10000027-1769508705-1769526000@dcimovement.org
SUMMARY:MICHIGAN SECRETARY OF STATE MOBLIE UNIT
DESCRIPTION:STUDENT MUST BRING THEIR ORIGINAL BIRTH CERTIFICATE WITH SEAL\, SOCIAL SECURITY CARD(NO COPIES)\, AND PROOF OF ADDRESS.
URL:https://dcimovement.org/event/michigan-secretary-of-state-moblie-unit/2026-01-27/
ORGANIZER;CN="DETROIT CHANGE INTIATIVE":MAILTO:www.dcimovement.org
END:VEVENT
BEGIN:VEVENT
DTSTART;TZID=America/Detroit:20260129T100000
DTEND;TZID=America/Detroit:20260129T150000
DTSTAMP:20260425T002918
CREATED:20260104T000539Z
LAST-MODIFIED:20260105T151144Z
UID:10000028-1769680800-1769698800@dcimovement.org
SUMMARY:MICHIGAN SECRETARY OF STATE MOBLIE UNIT
DESCRIPTION:STUDENT MUST BRING THEIR ORIGINAL BIRTH CERTIFICATE WITH SEAL\, SOCIAL SECURITY CARD(NO COPIES)\, AND PROOF OF ADDRESS.
URL:https://dcimovement.org/event/michigan-secretary-of-state-moblie-unit/2026-01-29/
ORGANIZER;CN="DETROIT CHANGE INTIATIVE":MAILTO:www.dcimovement.org
END:VEVENT
BEGIN:VEVENT
DTSTART;TZID=America/Halifax:20260226T100000
DTEND;TZID=America/Halifax:20260226T150000
DTSTAMP:20260425T002918
CREATED:20260225T055130Z
LAST-MODIFIED:20260225T055131Z
UID:10000030-1772100000-1772118000@dcimovement.org
SUMMARY:Michigan Secretary of State Mobile Unit
DESCRIPTION:  \n  \nMust bring your Social Security card and an original birth certificate\, and two forms of Identification.
URL:https://dcimovement.org/event/michigan-secretary-of-state-mobile-unit-2-2/
LOCATION:Central High School\, 2425 Tuxedo St\, Detroit\, 48206\, United States
ORGANIZER;CN="DETROIT CHANGE INTIATIVE":MAILTO:www.dcimovement.org
END:VEVENT
BEGIN:VEVENT
DTSTART;TZID=America/Halifax:20260302T080000
DTEND;TZID=America/Halifax:20260302T170000
DTSTAMP:20260425T002918
CREATED:20260225T052650Z
LAST-MODIFIED:20260225T054404Z
UID:10000035-1772438400-1772470800@dcimovement.org
SUMMARY:Michigan Secretary of State
DESCRIPTION:Must bring in a Social Security card and original birth certificate. With two forms of proof of address.
URL:https://dcimovement.org/event/michigan-secretary-of-state/
LOCATION:Tri-County Educational Center\, 21131 Garden Ln\, Ferndale\, MI\, 48220\, United States
ORGANIZER;CN="DETROIT CHANGE INTIATIVE":MAILTO:www.dcimovement.org
END:VEVENT
BEGIN:VEVENT
DTSTART;TZID=America/Halifax:20260302T100000
DTEND;TZID=America/Halifax:20260302T150000
DTSTAMP:20260425T002918
CREATED:20260225T055407Z
LAST-MODIFIED:20260225T055408Z
UID:10000031-1772445600-1772463600@dcimovement.org
SUMMARY:Michigan Secretary of State Mobile Unit
DESCRIPTION:  \n  \nMust bring your Social Security card and an original birth certificate\, and two forms of Identification.
URL:https://dcimovement.org/event/michigan-secretary-of-state-mobile-unit-2-3/
LOCATION:Renaissance High School\, 6565 W. Outer Dr\, Detroit\, MI\, 48235\, United States
ORGANIZER;CN="DETROIT CHANGE INTIATIVE":MAILTO:www.dcimovement.org
END:VEVENT
BEGIN:VEVENT
DTSTART;TZID=America/Halifax:20260303T100000
DTEND;TZID=America/Halifax:20260303T150000
DTSTAMP:20260425T002918
CREATED:20260225T053236Z
LAST-MODIFIED:20260225T053236Z
UID:10000036-1772532000-1772550000@dcimovement.org
SUMMARY:Michigan Secretary of State Mobile Unit
DESCRIPTION:  \nMust bring in a Social Security card and original birth certificate. With two forms of proof of address. \n 
URL:https://dcimovement.org/event/michigan-secretary-of-state-mobile-unit-3/
LOCATION:Ferndale Upper School\, 24220 Rosewood St\, Oak Park\, MI\, 48237\, United States
ORGANIZER;CN="DETROIT CHANGE INTIATIVE":MAILTO:www.dcimovement.org
END:VEVENT
BEGIN:VEVENT
DTSTART;TZID=America/Halifax:20260303T100000
DTEND;TZID=America/Halifax:20260303T150000
DTSTAMP:20260425T002918
CREATED:20260225T055649Z
LAST-MODIFIED:20260225T055650Z
UID:10000032-1772532000-1772550000@dcimovement.org
SUMMARY:Michigan Secretary of State Mobile Unit
DESCRIPTION:  \n  \nMust bring your Social Security card and an original birth certificate\, and two forms of Identification.
URL:https://dcimovement.org/event/michigan-secretary-of-state-mobile-unit-2-4/
LOCATION:Northwestern High School\, 2200 W.Grand Blvd\, Detroit\, MI\, 48208\, United States
ORGANIZER;CN="DETROIT CHANGE INTIATIVE":MAILTO:www.dcimovement.org
END:VEVENT
BEGIN:VEVENT
DTSTART;TZID=America/Halifax:20260306T100000
DTEND;TZID=America/Halifax:20260306T150000
DTSTAMP:20260425T002918
CREATED:20260225T053654Z
LAST-MODIFIED:20260225T053654Z
UID:10000037-1772791200-1772809200@dcimovement.org
SUMMARY:Michigan Secretary of State Mobile Unit
DESCRIPTION:  \n 
URL:https://dcimovement.org/event/michigan-secretary-of-state-mobile-unit-4/
LOCATION:Ferndale High School\, 881 Pinecrest\, Ferndale\, MI\, 48220\, United States
ORGANIZER;CN="DETROIT CHANGE INTIATIVE":MAILTO:www.dcimovement.org
END:VEVENT
BEGIN:VEVENT
DTSTART;TZID=America/Halifax:20260320T100000
DTEND;TZID=America/Halifax:20260320T153000
DTSTAMP:20260425T002918
CREATED:20260225T054115Z
LAST-MODIFIED:20260225T054115Z
UID:10000038-1774000800-1774020600@dcimovement.org
SUMMARY:Michigan Secretary of State Mobile Unit
DESCRIPTION:
URL:https://dcimovement.org/event/michigan-secretary-of-state-mobile-unit-5/
LOCATION:Ferndale Middle School\, 725 Pinecrest\, Ferndale\, MI\, 48220\, United States
ORGANIZER;CN="DETROIT CHANGE INTIATIVE":MAILTO:www.dcimovement.org
END:VEVENT
BEGIN:VEVENT
DTSTART;TZID=America/Halifax:20260326T100000
DTEND;TZID=America/Halifax:20260326T150000
DTSTAMP:20260425T002918
CREATED:20260225T055914Z
LAST-MODIFIED:20260225T055915Z
UID:10000033-1774519200-1774537200@dcimovement.org
SUMMARY:Michigan Secretary of State Mobile Unit
DESCRIPTION:  \n  \nMust bring your Social Security card and an original birth certificate\, and two forms of Identification.
URL:https://dcimovement.org/event/michigan-secretary-of-state-mobile-unit-2-5/
LOCATION:Cass Tech High School\, 2501 Second Ave\, Detroit\, MI\, 48201\, United States
ORGANIZER;CN="DETROIT CHANGE INTIATIVE":MAILTO:www.dcimovement.org
END:VEVENT
BEGIN:VEVENT
DTSTART;TZID=America/Halifax:20260406T100000
DTEND;TZID=America/Halifax:20260406T150000
DTSTAMP:20260425T002918
CREATED:20260225T050827Z
LAST-MODIFIED:20260225T050827Z
UID:10000034-1775469600-1775487600@dcimovement.org
SUMMARY:Michigan Secretary of State Mobile Unit
DESCRIPTION:  \n  \nMust bring your Social Security card and an original birth certificate\, and two forms of Identification.
URL:https://dcimovement.org/event/michigan-secretary-of-state-mobile-unit-2/2026-04-06/
ORGANIZER;CN="DETROIT CHANGE INTIATIVE":MAILTO:www.dcimovement.org
END:VEVENT
BEGIN:VEVENT
DTSTART;TZID=America/Halifax:20260406T100000
DTEND;TZID=America/Halifax:20260406T153000
DTSTAMP:20260425T002918
CREATED:20260225T060459Z
LAST-MODIFIED:20260225T060459Z
UID:10000039-1775469600-1775489400@dcimovement.org
SUMMARY:Michigan Secretary of State Mobile Unit
DESCRIPTION:
URL:https://dcimovement.org/event/michigan-secretary-of-state-mobile-unit-6/
LOCATION:Western International High School\, 1500 Scotten St\, Detroit\, MI\, 48209\, United States
ORGANIZER;CN="DETROIT CHANGE INTIATIVE":MAILTO:www.dcimovement.org
END:VEVENT
END:VCALENDAR